BEGIN:VCALENDAR
VERSION:2.0
PRODID:-//Discovery Ridge Community Association - ECPv6.15.20//NONSGML v1.0//EN
CALSCALE:GREGORIAN
METHOD:PUBLISH
X-ORIGINAL-URL:https://discoveryridge.com
X-WR-CALDESC:Events for Discovery Ridge Community Association
REFRESH-INTERVAL;VALUE=DURATION:PT1H
X-Robots-Tag:noindex
X-PUBLISHED-TTL:PT1H
BEGIN:VTIMEZONE
TZID:America/Edmonton
BEGIN:DAYLIGHT
TZOFFSETFROM:-0700
TZOFFSETTO:-0600
TZNAME:MDT
DTSTART:20250309T090000
END:DAYLIGHT
BEGIN:STANDARD
TZOFFSETFROM:-0600
TZOFFSETTO:-0700
TZNAME:MST
DTSTART:20251102T080000
END:STANDARD
BEGIN:DAYLIGHT
TZOFFSETFROM:-0700
TZOFFSETTO:-0600
TZNAME:MDT
DTSTART:20260308T090000
END:DAYLIGHT
BEGIN:STANDARD
TZOFFSETFROM:-0600
TZOFFSETTO:-0700
TZNAME:MST
DTSTART:20261101T080000
END:STANDARD
BEGIN:DAYLIGHT
TZOFFSETFROM:-0700
TZOFFSETTO:-0600
TZNAME:MDT
DTSTART:20270314T090000
END:DAYLIGHT
BEGIN:STANDARD
TZOFFSETFROM:-0600
TZOFFSETTO:-0700
TZNAME:MST
DTSTART:20271107T080000
END:STANDARD
END:VTIMEZONE
BEGIN:VEVENT
DTSTART;TZID=America/Edmonton:20260830T100000
DTEND;TZID=America/Edmonton:20260830T140000
DTSTAMP:20260422T162642
CREATED:20260419T044355Z
LAST-MODIFIED:20260419T044355Z
UID:6039-1788084000-1788098400@discoveryridge.com
SUMMARY:Shirley's Greenhouse Farm Stand
DESCRIPTION:
URL:https://discoveryridge.com/event/shirleys-greenhouse-farm-stand-34/
LOCATION:DRCA Recreation Facility\, 160 Discovery Ridge Blvd SW\, Calgary\, Alberta\, T3H 4Y2\, Canada
END:VEVENT
BEGIN:VEVENT
DTSTART;TZID=America/Edmonton:20260906T100000
DTEND;TZID=America/Edmonton:20260906T140000
DTSTAMP:20260422T162642
CREATED:20260419T044448Z
LAST-MODIFIED:20260419T044448Z
UID:6041-1788688800-1788703200@discoveryridge.com
SUMMARY:Shirley's Greenhouse Farm Stand
DESCRIPTION:
URL:https://discoveryridge.com/event/shirleys-greenhouse-farm-stand-35/
LOCATION:DRCA Recreation Facility\, 160 Discovery Ridge Blvd SW\, Calgary\, Alberta\, T3H 4Y2\, Canada
END:VEVENT
BEGIN:VEVENT
DTSTART;TZID=America/Edmonton:20260913T100000
DTEND;TZID=America/Edmonton:20260913T140000
DTSTAMP:20260422T162642
CREATED:20260419T044513Z
LAST-MODIFIED:20260419T044513Z
UID:6043-1789293600-1789308000@discoveryridge.com
SUMMARY:Shirley's Greenhouse Farm Stand
DESCRIPTION:
URL:https://discoveryridge.com/event/shirleys-greenhouse-farm-stand-36/
LOCATION:DRCA Recreation Facility\, 160 Discovery Ridge Blvd SW\, Calgary\, Alberta\, T3H 4Y2\, Canada
END:VEVENT
BEGIN:VEVENT
DTSTART;TZID=America/Edmonton:20260920T100000
DTEND;TZID=America/Edmonton:20260920T140000
DTSTAMP:20260422T162642
CREATED:20260419T044537Z
LAST-MODIFIED:20260419T044537Z
UID:6045-1789898400-1789912800@discoveryridge.com
SUMMARY:Shirley's Greenhouse Farm Stand
DESCRIPTION:
URL:https://discoveryridge.com/event/shirleys-greenhouse-farm-stand-37/
LOCATION:DRCA Recreation Facility\, 160 Discovery Ridge Blvd SW\, Calgary\, Alberta\, T3H 4Y2\, Canada
END:VEVENT
BEGIN:VEVENT
DTSTART;TZID=America/Edmonton:20260927T100000
DTEND;TZID=America/Edmonton:20260927T140000
DTSTAMP:20260422T162642
CREATED:20260419T044612Z
LAST-MODIFIED:20260419T044612Z
UID:6047-1790503200-1790517600@discoveryridge.com
SUMMARY:Shirley's Greenhouse Farm Stand
DESCRIPTION:
URL:https://discoveryridge.com/event/shirleys-greenhouse-farm-stand-38/
LOCATION:DRCA Recreation Facility\, 160 Discovery Ridge Blvd SW\, Calgary\, Alberta\, T3H 4Y2\, Canada
END:VEVENT
END:VCALENDAR