BEGIN:VCALENDAR
VERSION:2.0
PRODID:-//Discovery Ridge Community Association - ECPv6.15.20//NONSGML v1.0//EN
CALSCALE:GREGORIAN
METHOD:PUBLISH
X-WR-CALNAME:Discovery Ridge Community Association
X-ORIGINAL-URL:https://discoveryridge.com
X-WR-CALDESC:Events for Discovery Ridge Community Association
REFRESH-INTERVAL;VALUE=DURATION:PT1H
X-Robots-Tag:noindex
X-PUBLISHED-TTL:PT1H
BEGIN:VTIMEZONE
TZID:America/Edmonton
BEGIN:DAYLIGHT
TZOFFSETFROM:-0700
TZOFFSETTO:-0600
TZNAME:MDT
DTSTART:20240310T090000
END:DAYLIGHT
BEGIN:STANDARD
TZOFFSETFROM:-0600
TZOFFSETTO:-0700
TZNAME:MST
DTSTART:20241103T080000
END:STANDARD
BEGIN:DAYLIGHT
TZOFFSETFROM:-0700
TZOFFSETTO:-0600
TZNAME:MDT
DTSTART:20250309T090000
END:DAYLIGHT
BEGIN:STANDARD
TZOFFSETFROM:-0600
TZOFFSETTO:-0700
TZNAME:MST
DTSTART:20251102T080000
END:STANDARD
BEGIN:DAYLIGHT
TZOFFSETFROM:-0700
TZOFFSETTO:-0600
TZNAME:MDT
DTSTART:20260308T090000
END:DAYLIGHT
BEGIN:STANDARD
TZOFFSETFROM:-0600
TZOFFSETTO:-0700
TZNAME:MST
DTSTART:20261101T080000
END:STANDARD
BEGIN:DAYLIGHT
TZOFFSETFROM:-0700
TZOFFSETTO:-0600
TZNAME:MDT
DTSTART:20270314T090000
END:DAYLIGHT
BEGIN:STANDARD
TZOFFSETFROM:-0600
TZOFFSETTO:-0700
TZNAME:MST
DTSTART:20271107T080000
END:STANDARD
END:VTIMEZONE
BEGIN:VEVENT
DTSTART;TZID=America/Edmonton:20260705T100000
DTEND;TZID=America/Edmonton:20260705T140000
DTSTAMP:20260422T060309
CREATED:20260419T043948Z
LAST-MODIFIED:20260419T043948Z
UID:6023-1783245600-1783260000@discoveryridge.com
SUMMARY:Shirley's Greenhouse Farm Stand
DESCRIPTION:
URL:https://discoveryridge.com/event/shirleys-greenhouse-farm-stand-26/
LOCATION:DRCA Recreation Facility\, 160 Discovery Ridge Blvd SW\, Calgary\, Alberta\, T3H 4Y2\, Canada
END:VEVENT
BEGIN:VEVENT
DTSTART;TZID=America/Edmonton:20260628T100000
DTEND;TZID=America/Edmonton:20260628T140000
DTSTAMP:20260422T060309
CREATED:20260419T043916Z
LAST-MODIFIED:20260419T043916Z
UID:6021-1782640800-1782655200@discoveryridge.com
SUMMARY:Shirley's Greenhouse Farm Stand
DESCRIPTION:
URL:https://discoveryridge.com/event/shirleys-greenhouse-farm-stand-25/
LOCATION:DRCA Recreation Facility\, 160 Discovery Ridge Blvd SW\, Calgary\, Alberta\, T3H 4Y2\, Canada
END:VEVENT
BEGIN:VEVENT
DTSTART;TZID=America/Edmonton:20260621T100000
DTEND;TZID=America/Edmonton:20260621T140000
DTSTAMP:20260422T060309
CREATED:20260419T043854Z
LAST-MODIFIED:20260419T043854Z
UID:6019-1782036000-1782050400@discoveryridge.com
SUMMARY:Shirley's Greenhouse Farm Stand
DESCRIPTION:
URL:https://discoveryridge.com/event/shirleys-greenhouse-farm-stand-24/
LOCATION:DRCA Recreation Facility\, 160 Discovery Ridge Blvd SW\, Calgary\, Alberta\, T3H 4Y2\, Canada
END:VEVENT
BEGIN:VEVENT
DTSTART;TZID=America/Edmonton:20260620T160000
DTEND;TZID=America/Edmonton:20260620T190000
DTSTAMP:20260422T060309
CREATED:20260221T034636Z
LAST-MODIFIED:20260221T034707Z
UID:5862-1781971200-1781982000@discoveryridge.com
SUMMARY:Stampede Round Up
DESCRIPTION:Get ready for the DRCA Stampede Roundup! Saddle up and join us on Saturday\, June 20\, 2026\, from 4 pm to 7 pm at the park by the rinks. \nWhat started as a Stampede Breakfast in 2011 has now flourished into an exciting afternoon event that kicks off the Calgary Stampede celebrations. Enjoy an array of western-themed entertainment\, treats from local food trucks\, lively kids’ games\, face painting\, line dancing\, and a visit from Butterfield Acres’ petting zoo. \nWe can’t wait to see you there!
URL:https://discoveryridge.com/event/stampede-round-up/
LOCATION:DRCA Recreation Facility\, 160 Discovery Ridge Blvd SW\, Calgary\, Alberta\, T3H 4Y2\, Canada
ATTACH;FMTTYPE=image/jpeg:https://discoveryridge.com/wp-content/uploads/2013/05/cowboy-hat-and-boots-e1741927658197.jpg
END:VEVENT
BEGIN:VEVENT
DTSTART;TZID=America/Edmonton:20260614T100000
DTEND;TZID=America/Edmonton:20260614T140000
DTSTAMP:20260422T060309
CREATED:20260419T043829Z
LAST-MODIFIED:20260419T043829Z
UID:6017-1781431200-1781445600@discoveryridge.com
SUMMARY:Shirley's Greenhouse Farm Stand
DESCRIPTION:
URL:https://discoveryridge.com/event/shirleys-greenhouse-farm-stand-23/
LOCATION:DRCA Recreation Facility\, 160 Discovery Ridge Blvd SW\, Calgary\, Alberta\, T3H 4Y2\, Canada
END:VEVENT
BEGIN:VEVENT
DTSTART;TZID=America/Edmonton:20260613T090000
DTEND;TZID=America/Edmonton:20260613T140000
DTSTAMP:20260422T060309
CREATED:20260411T161130Z
LAST-MODIFIED:20260411T161332Z
UID:5950-1781341200-1781359200@discoveryridge.com
SUMMARY:2026 Community Cleanup
DESCRIPTION:The Discovery Ridge Community Association\, alongside the Signal Hill and Springbank Hill communities\, are planning a community cleanup day where we will have multiple city garbage trucks in a parking lot to assist you in removing some unwanted items from your home. Think of things like old electronics\, tires\, wood\, mattresses\, chairs\, beds\, landscaping\, etc. \nThe City will provide trucks to collect garbage going to the landfill. Other recycling vendors include: metal\, electronics\, tires\, and household donations. The Drop-In Centre is accepting any furniture. \nUnfortunately\, we cannot accept organics\, chemicals\, contaminated materials\, or hazardous items. Household hazardous waste can be dropped off at the Lincoln Park/Garrison Green Fire Station #20 at 2800 Peacekeepers Way SW. \nWe are always looking for volunteers to help with the event. Please contact volunteer@discoveryridge.com if you are interested in helping out.
URL:https://discoveryridge.com/event/2026-community-cleanup/
LOCATION:Alberta
ATTACH;FMTTYPE=image/png:https://discoveryridge.com/wp-content/uploads/2025/04/waste-sorting.png
END:VEVENT
BEGIN:VEVENT
DTSTART;TZID=America/Edmonton:20260607T100000
DTEND;TZID=America/Edmonton:20260607T140000
DTSTAMP:20260422T060309
CREATED:20260419T043750Z
LAST-MODIFIED:20260419T043750Z
UID:6015-1780826400-1780840800@discoveryridge.com
SUMMARY:Shirley's Greenhouse Farm Stand
DESCRIPTION:
URL:https://discoveryridge.com/event/shirleys-greenhouse-farm-stand-22/
LOCATION:DRCA Recreation Facility\, 160 Discovery Ridge Blvd SW\, Calgary\, Alberta\, T3H 4Y2\, Canada
END:VEVENT
BEGIN:VEVENT
DTSTART;TZID=America/Edmonton:20260606T080000
DTEND;TZID=America/Edmonton:20260606T130000
DTSTAMP:20260422T060309
CREATED:20260418T213325Z
LAST-MODIFIED:20260418T213325Z
UID:6006-1780732800-1780750800@discoveryridge.com
SUMMARY:DRCA Parade of Garage Sales
DESCRIPTION:Do you love garage sales? Consider setting one up to participate in the Discovery Ridge Parade of Garage Sales! This will be advertised on external sites as well in DRCA communications. \nOr if you are a shopper … mark your calendar! Come early for the best selection!
URL:https://discoveryridge.com/event/drca-parade-of-garage-sales/
LOCATION:Alberta
ATTACH;FMTTYPE=image/png:https://discoveryridge.com/wp-content/uploads/2025/04/sale-sign.png
END:VEVENT
BEGIN:VEVENT
DTSTART;TZID=America/Edmonton:20260531T100000
DTEND;TZID=America/Edmonton:20260531T140000
DTSTAMP:20260422T060309
CREATED:20260419T043723Z
LAST-MODIFIED:20260419T043723Z
UID:6013-1780221600-1780236000@discoveryridge.com
SUMMARY:Shirley's Greenhouse Farm Stand
DESCRIPTION:
URL:https://discoveryridge.com/event/shirleys-greenhouse-farm-stand-21/
LOCATION:DRCA Recreation Facility\, 160 Discovery Ridge Blvd SW\, Calgary\, Alberta\, T3H 4Y2\, Canada
END:VEVENT
BEGIN:VEVENT
DTSTART;TZID=America/Edmonton:20260524T100000
DTEND;TZID=America/Edmonton:20260524T140000
DTSTAMP:20260422T060309
CREATED:20260419T043639Z
LAST-MODIFIED:20260419T043639Z
UID:6011-1779616800-1779631200@discoveryridge.com
SUMMARY:Shirley's Greenhouse Farm Stand
DESCRIPTION:
URL:https://discoveryridge.com/event/shirleys-greenhouse-farm-stand-20/
LOCATION:DRCA Recreation Facility\, 160 Discovery Ridge Blvd SW\, Calgary\, Alberta\, T3H 4Y2\, Canada
END:VEVENT
BEGIN:VEVENT
DTSTART;TZID=America/Edmonton:20260517T100000
DTEND;TZID=America/Edmonton:20260517T140000
DTSTAMP:20260422T060309
CREATED:20260419T043542Z
LAST-MODIFIED:20260419T043542Z
UID:6008-1779012000-1779026400@discoveryridge.com
SUMMARY:Shirley's Greenhouse Farm Stand
DESCRIPTION:
URL:https://discoveryridge.com/event/shirleys-greenhouse-farm-stand-19/
LOCATION:DRCA Recreation Facility\, 160 Discovery Ridge Blvd SW\, Calgary\, Alberta\, T3H 4Y2\, Canada
END:VEVENT
BEGIN:VEVENT
DTSTART;TZID=America/Edmonton:20260504T193000
DTEND;TZID=America/Edmonton:20260504T213000
DTSTAMP:20260422T060309
CREATED:20260302T023311Z
LAST-MODIFIED:20260302T023311Z
UID:5880-1777923000-1777930200@discoveryridge.com
SUMMARY:DRCA Executive Board Meeting
DESCRIPTION:
URL:https://discoveryridge.com/event/drca-executive-board-meeting-15/
LOCATION:Zoom
END:VEVENT
BEGIN:VEVENT
DTSTART;VALUE=DATE:20260504
DTEND;VALUE=DATE:20260505
DTSTAMP:20260422T060309
CREATED:20260414T025316Z
LAST-MODIFIED:20260414T025432Z
UID:5993-1777852800-1777939199@discoveryridge.com
SUMMARY:Street Cleaning
DESCRIPTION:The City’s Spring Clean-up program\, or street sweeping\, removes debris and leftover materials from winter on the roadway. The program begins in mid-April (weather permitting) and runs through June\, with community sweeping happening Monday through Fridays\, between 8 a.m. and 4 p.m.  \nStreet cleaning is scheduled for Discovery Ridge on May 4. If you’d like a reminder\, sign up for e-mail or text notifications. \nCity crews will put up signs with “No Parking” symbols a few days earlier at specific locations around the community. These signs are verified by Calgary Parking\, which helps enforce the ban. Community parking bans occur Monday through Friday from 8 a.m. to 4 p.m. Any vehicle that has not been removed from the street during the ban is subject to a ticket. Calgary Parking uses camera vehicles for enforcement\, and tickets will arrive through the mail. In certain areas\, vehicles may also be subject to towing if the “No Parking” signs are placed along the roadway. These signs will be placed at least a minimum of 24 hours prior to street sweeping.
URL:https://discoveryridge.com/event/street-cleaning/
LOCATION:Alberta
ATTACH;FMTTYPE=image/png:https://discoveryridge.com/wp-content/uploads/2026/04/Street-Sweeper-1.png
END:VEVENT
BEGIN:VEVENT
DTSTART;TZID=America/Edmonton:20260430T180000
DTEND;TZID=America/Edmonton:20260430T200000
DTSTAMP:20260422T060309
CREATED:20260411T160511Z
LAST-MODIFIED:20260411T160511Z
UID:5945-1777572000-1777579200@discoveryridge.com
SUMMARY:Town Hall With Calgary Police Service
DESCRIPTION:Join Ward 6 for an informative community conversation with the Calgary Police Service\, including Chief Katie McLellan\, local Inspectors\, and Community Resource Officers. This is your opportunity to hear directly from police leadership\, learn about current priorities and trends\, and ask questions about safety in your community. \nResidents will have the chance to ask questions\, raise concerns\, and engage in a respectful solutions-focused conversation about safety\, policing\, and community well-being. Whether you’re looking for updates\, want to share feedback\, or simply stay informed\, this session is designed to foster an open dialogue and conversation. Register now.
URL:https://discoveryridge.com/event/town-hall-with-calgary-police-service/
LOCATION:Wildwood Community Association\, 4411 Spruce Dr SW\, Calgary\, Alberta\, T3C 3B1\, Canada
ATTACH;FMTTYPE=image/png:https://discoveryridge.com/wp-content/uploads/2026/04/2026-CPS-Town-Hall.png
END:VEVENT
BEGIN:VEVENT
DTSTART;TZID=America/Edmonton:20260406T193000
DTEND;TZID=America/Edmonton:20260406T213000
DTSTAMP:20260422T060309
CREATED:20260221T034336Z
LAST-MODIFIED:20260221T034336Z
UID:5860-1775503800-1775511000@discoveryridge.com
SUMMARY:DRCA Executive Board Meeting
DESCRIPTION:
URL:https://discoveryridge.com/event/drca-executive-board-meeting-14/
LOCATION:Zoom
END:VEVENT
BEGIN:VEVENT
DTSTART;TZID=America/Edmonton:20260302T193000
DTEND;TZID=America/Edmonton:20260302T213000
DTSTAMP:20260422T060309
CREATED:20260221T034237Z
LAST-MODIFIED:20260221T034237Z
UID:5858-1772479800-1772487000@discoveryridge.com
SUMMARY:DRCA Executive Board Meeting
DESCRIPTION:
URL:https://discoveryridge.com/event/drca-executive-board-meeting-13/
LOCATION:Zoom
END:VEVENT
BEGIN:VEVENT
DTSTART;TZID=America/Edmonton:20260223T190000
DTEND;TZID=America/Edmonton:20260223T210000
DTSTAMP:20260422T060309
CREATED:20251214T024730Z
LAST-MODIFIED:20251214T024730Z
UID:5762-1771873200-1771880400@discoveryridge.com
SUMMARY:DRCA AGM
DESCRIPTION:
URL:https://discoveryridge.com/event/drca-agm/
LOCATION:Zoom
END:VEVENT
BEGIN:VEVENT
DTSTART;TZID=America/Edmonton:20260129T180000
DTEND;TZID=America/Edmonton:20260129T203000
DTSTAMP:20260422T060309
CREATED:20260110T233455Z
LAST-MODIFIED:20260122T032620Z
UID:5817-1769709600-1769718600@discoveryridge.com
SUMMARY:Discovery Ridge Dam Safety Project - Technical Information Session
DESCRIPTION:As part of The City’s Pond Maintenance and Dam Safety Programs\, engineering and condition assessments were completed on the Discovery Ridge Dam (Discovery Ridge Pond – just west of Discovery Ridge Gardens). The assessments showed that a portion of the dam’s embankment had potential slope stability risks and a dam safety review outlined several additional deficiencies. \nFollowing the community information session held on November 20\, 2025\, and in response to questions received\, the City will host an in-person technical information session to review the following reports: \n\nDam Safety Review – Stantec (2024)\nMitigations and Remedial Options Report – KCB (2025)\n\nThis session is part of the City’s ongoing commitment to keep residents informed and engaged. \nTechnical Information Session – January 29\, 2026 at 6:00 pm \nThe City invites you to attend an in-person technical information session on Thursday\, January 29\, 2026\, at 6:00 PM. During the session\, they will provide detailed presentations regarding the background and technical reports that have guided the work to date\, followed by an opportunity for questions from attendees. \n📅 Date: Thursday\, January 29\, 2026\n🕡 Time: 6:00 PM – 8:30PM (Mountain Time)\n📍 Location: Ambrose University (150 Ambrose Circle SW) \nPlease register by emailing discoveryridgedamsafety1@calgary.ca by January 28\, 2026. Only registered guests will be able to access the facility.  \nAll available information\, and updates are posted on the City of Calgary\, Discovery Ridge Dam Safety webpage.
URL:https://discoveryridge.com/event/discovery-ridge-dam-safety-project-technical-information-session/
LOCATION:Ambrose University\, 150 Ambrose Circle SW\, Calgary\, Alberta\, T3H 5M6\, Canada
END:VEVENT
BEGIN:VEVENT
DTSTART;TZID=America/Edmonton:20260105T193000
DTEND;TZID=America/Edmonton:20260105T213000
DTSTAMP:20260422T060309
CREATED:20251214T024620Z
LAST-MODIFIED:20251214T024620Z
UID:5760-1767641400-1767648600@discoveryridge.com
SUMMARY:DRCA Executive Board Meeting
DESCRIPTION:
URL:https://discoveryridge.com/event/drca-executive-board-meeting-12/
LOCATION:Zoom
END:VEVENT
BEGIN:VEVENT
DTSTART;TZID=America/Edmonton:20251214T130000
DTEND;TZID=America/Edmonton:20251214T160000
DTSTAMP:20260422T060309
CREATED:20251214T025243Z
LAST-MODIFIED:20251214T025419Z
UID:5764-1765717200-1765728000@discoveryridge.com
SUMMARY:Celebrate With Santa at Wonder Donuts
DESCRIPTION:Santa is making a stop in Discovery Ridge! \nJoin us at Wonder Donuts for a festive afternoon with the jolliest guest of the season! \nTake a fun holiday photo with Santa\nCatch up with friends and neighbours\nEnjoy a complimentary donut – choose your favourite flavour\nWe can’t wait to celebrate the season with you!
URL:https://discoveryridge.com/event/celebrate-with-santa-at-wonder-donuts/
LOCATION:Wonder Donuts\, 10 Discovery Ridge Hill SW\, Calgary\, AB\, T3H 5X2\, Canada
ATTACH;FMTTYPE=image/jpeg:https://discoveryridge.com/wp-content/uploads/2025/12/2025-Santa-Facebook-Instagram.jpg
END:VEVENT
BEGIN:VEVENT
DTSTART;TZID=America/Edmonton:20251201T193000
DTEND;TZID=America/Edmonton:20251201T213000
DTSTAMP:20260422T060309
CREATED:20251118T162357Z
LAST-MODIFIED:20251118T162357Z
UID:5746-1764617400-1764624600@discoveryridge.com
SUMMARY:DRCA Executive Board Meeting
DESCRIPTION:
URL:https://discoveryridge.com/event/drca-executive-board-meeting-11/
LOCATION:Zoom
END:VEVENT
BEGIN:VEVENT
DTSTART;TZID=America/Edmonton:20251120T183000
DTEND;TZID=America/Edmonton:20251120T203000
DTSTAMP:20260422T060309
CREATED:20251118T162217Z
LAST-MODIFIED:20251118T162217Z
UID:5743-1763663400-1763670600@discoveryridge.com
SUMMARY:Discovery Ridge Dam Info Session
DESCRIPTION:Register for this online event at calgary.ca/planning/water/discovery-ridge-dam-safety.html?redirect=/discoveryridgedam.
URL:https://discoveryridge.com/event/discovery-ridge-dam-info-session/
LOCATION:Microsoft Teams
END:VEVENT
BEGIN:VEVENT
DTSTART;TZID=America/Edmonton:20251104T120000
DTEND;TZID=America/Edmonton:20251104T170000
DTSTAMP:20260422T060309
CREATED:20251118T161836Z
LAST-MODIFIED:20251118T161836Z
UID:5741-1762257600-1762275600@discoveryridge.com
SUMMARY:International Association of Firefighters and the Calgary Fire Department “Responding to the Interface” training in Discovery Ridge
DESCRIPTION:
URL:https://discoveryridge.com/event/international-association-of-firefighters-and-the-calgary-fire-department-responding-to-the-interface-training-in-discovery-ridge-2/
LOCATION:Alberta
END:VEVENT
BEGIN:VEVENT
DTSTART;TZID=America/Edmonton:20251103T193000
DTEND;TZID=America/Edmonton:20251103T213000
DTSTAMP:20260422T060309
CREATED:20251118T161516Z
LAST-MODIFIED:20251118T161516Z
UID:5736-1762198200-1762205400@discoveryridge.com
SUMMARY:DRCA Executive Board Meeting
DESCRIPTION:
URL:https://discoveryridge.com/event/drca-executive-board-meeting-10/
LOCATION:Alberta
END:VEVENT
BEGIN:VEVENT
DTSTART;TZID=America/Edmonton:20251103T120000
DTEND;TZID=America/Edmonton:20251103T170000
DTSTAMP:20260422T060309
CREATED:20251118T161734Z
LAST-MODIFIED:20251118T161734Z
UID:5738-1762171200-1762189200@discoveryridge.com
SUMMARY:International Association of Firefighters and the Calgary Fire Department “Responding to the Interface” training in Discovery Ridge
DESCRIPTION:
URL:https://discoveryridge.com/event/international-association-of-firefighters-and-the-calgary-fire-department-responding-to-the-interface-training-in-discovery-ridge/
LOCATION:Alberta
END:VEVENT
BEGIN:VEVENT
DTSTART;TZID=America/Edmonton:20251006T193000
DTEND;TZID=America/Edmonton:20251006T213000
DTSTAMP:20260422T060309
CREATED:20250823T040923Z
LAST-MODIFIED:20250823T040923Z
UID:5647-1759779000-1759786200@discoveryridge.com
SUMMARY:DRCA Executive Board Meeting
DESCRIPTION:
URL:https://discoveryridge.com/event/drca-executive-board-meeting-8/
LOCATION:Alberta
END:VEVENT
BEGIN:VEVENT
DTSTART;TZID=America/Edmonton:20250930T193000
DTEND;TZID=America/Edmonton:20250930T213000
DTSTAMP:20260422T060309
CREATED:20250906T001511Z
LAST-MODIFIED:20250906T001511Z
UID:5701-1759260600-1759267800@discoveryridge.com
SUMMARY:DRCA Executive Board Meeting
DESCRIPTION:
URL:https://discoveryridge.com/event/drca-executive-board-meeting-9/
LOCATION:Alberta
END:VEVENT
BEGIN:VEVENT
DTSTART;TZID=America/Edmonton:20250927T100000
DTEND;TZID=America/Edmonton:20250927T140000
DTSTAMP:20260422T060309
CREATED:20250906T001406Z
LAST-MODIFIED:20250906T001406Z
UID:5699-1758967200-1758981600@discoveryridge.com
SUMMARY:Shirley's Greenhouse Farm Stand
DESCRIPTION:
URL:https://discoveryridge.com/event/shirleys-greenhouse-farm-stand-18/
LOCATION:DRCA Recreation Facility\, 160 Discovery Ridge Blvd SW\, Calgary\, Alberta\, T3H 4Y2\, Canada
ATTACH;FMTTYPE=image/jpeg:https://discoveryridge.com/wp-content/uploads/2025/04/2025-Farm-Stand.jpg
END:VEVENT
BEGIN:VEVENT
DTSTART;TZID=America/Edmonton:20250920T100000
DTEND;TZID=America/Edmonton:20250920T140000
DTSTAMP:20260422T060309
CREATED:20250906T001325Z
LAST-MODIFIED:20250906T001325Z
UID:5697-1758362400-1758376800@discoveryridge.com
SUMMARY:Shirley's Greenhouse Farm Stand
DESCRIPTION:
URL:https://discoveryridge.com/event/shirleys-greenhouse-farm-stand-17/
LOCATION:DRCA Recreation Facility\, 160 Discovery Ridge Blvd SW\, Calgary\, Alberta\, T3H 4Y2\, Canada
ATTACH;FMTTYPE=image/jpeg:https://discoveryridge.com/wp-content/uploads/2025/04/2025-Farm-Stand.jpg
END:VEVENT
BEGIN:VEVENT
DTSTART;TZID=America/Edmonton:20250913T100000
DTEND;TZID=America/Edmonton:20250913T140000
DTSTAMP:20260422T060309
CREATED:20250906T001223Z
LAST-MODIFIED:20250906T001223Z
UID:5695-1757757600-1757772000@discoveryridge.com
SUMMARY:Shirley's Greenhouse Farm Stand
DESCRIPTION:
URL:https://discoveryridge.com/event/shirleys-greenhouse-farm-stand-16/
LOCATION:DRCA Recreation Facility\, 160 Discovery Ridge Blvd SW\, Calgary\, Alberta\, T3H 4Y2\, Canada
ATTACH;FMTTYPE=image/jpeg:https://discoveryridge.com/wp-content/uploads/2025/04/2025-Farm-Stand.jpg
END:VEVENT
END:VCALENDAR